BEGIN:VCALENDAR
VERSION:2.0
PRODID:-//Red River North       Dog Obedience Club - ECPv6.3.5//NONSGML v1.0//EN
CALSCALE:GREGORIAN
METHOD:PUBLISH
X-ORIGINAL-URL:https://rrndoc.org
X-WR-CALDESC:Events for Red River North       Dog Obedience Club
REFRESH-INTERVAL;VALUE=DURATION:PT1H
X-Robots-Tag:noindex
X-PUBLISHED-TTL:PT1H
BEGIN:VTIMEZONE
TZID:UTC
BEGIN:STANDARD
TZOFFSETFROM:+0000
TZOFFSETTO:+0000
TZNAME:UTC
DTSTART:20240101T000000
END:STANDARD
END:VTIMEZONE
BEGIN:VEVENT
DTSTART;VALUE=DATE:20240126
DTEND;VALUE=DATE:20240129
DTSTAMP:20260422T075656
CREATED:20230905T174139Z
LAST-MODIFIED:20231208T141147Z
UID:4177-1706227200-1706486399@rrndoc.org
SUMMARY:FMKC Agility Trial January 26 - January 28\, 2024
DESCRIPTION:Agility Premium FMKC January 2024
URL:https://rrndoc.org/event/fmkc-agility-trial-january-26-january-28-2023/
LOCATION:ND
END:VEVENT
END:VCALENDAR