BEGIN:VCALENDAR
VERSION:2.0
PRODID:-//Red River North       Dog Obedience Club - ECPv6.3.5//NONSGML v1.0//EN
CALSCALE:GREGORIAN
METHOD:PUBLISH
X-ORIGINAL-URL:https://rrndoc.org
X-WR-CALDESC:Events for Red River North       Dog Obedience Club
REFRESH-INTERVAL;VALUE=DURATION:PT1H
X-Robots-Tag:noindex
X-PUBLISHED-TTL:PT1H
BEGIN:VTIMEZONE
TZID:UTC
BEGIN:STANDARD
TZOFFSETFROM:+0000
TZOFFSETTO:+0000
TZNAME:UTC
DTSTART:20240101T000000
END:STANDARD
END:VTIMEZONE
BEGIN:VEVENT
DTSTART;VALUE=DATE:20240322
DTEND;VALUE=DATE:20240325
DTSTAMP:20260422T060925
CREATED:20230905T174347Z
LAST-MODIFIED:20240215T162204Z
UID:4181-1711065600-1711324799@rrndoc.org
SUMMARY:FMKC Agility Trial March 22 - March 24\, 2024
DESCRIPTION:Agility Trial Premium 2024-03 (1)
URL:https://rrndoc.org/event/fmkc-agility-trial-march-22-march-24-2023/
LOCATION:ND
END:VEVENT
END:VCALENDAR