BEGIN:VCALENDAR
VERSION:2.0
PRODID:-//Red River North       Dog Obedience Club - ECPv6.3.5//NONSGML v1.0//EN
CALSCALE:GREGORIAN
METHOD:PUBLISH
X-ORIGINAL-URL:https://rrndoc.org
X-WR-CALDESC:Events for Red River North       Dog Obedience Club
REFRESH-INTERVAL;VALUE=DURATION:PT1H
X-Robots-Tag:noindex
X-PUBLISHED-TTL:PT1H
BEGIN:VTIMEZONE
TZID:UTC
BEGIN:STANDARD
TZOFFSETFROM:+0000
TZOFFSETTO:+0000
TZNAME:UTC
DTSTART:20250101T000000
END:STANDARD
END:VTIMEZONE
BEGIN:VEVENT
DTSTART;TZID=UTC:20250516T070000
DTEND;TZID=UTC:20250518T170000
DTSTAMP:20260419T193906
CREATED:20250215T155843Z
LAST-MODIFIED:20250423T041820Z
UID:4595-1747378800-1747587600@rrndoc.org
SUMMARY:RRNDOC  AKC Agility Trial\, May 2025
DESCRIPTION:Agility Trial Premium RRNDOC 2025-05
URL:https://rrndoc.org/event/rrndoc-may-2025-agility-trial/
LOCATION:Red River Valley Fairgrounds\, Expo Building\, 1805 West Main Ave\, West Fargo\, ND\, 58078
CATEGORIES:Local Dog-Related Community Events
ORGANIZER;CN="RED RIVER NORTH DOG OBEDIENCE CLUB":MAILTO:rrndoc@gmail.com
END:VEVENT
BEGIN:VEVENT
DTSTART;VALUE=DATE:20250426
DTEND;VALUE=DATE:20250428
DTSTAMP:20260419T193906
CREATED:20250215T160807Z
LAST-MODIFIED:20250227T172507Z
UID:4599-1745625600-1745798399@rrndoc.org
SUMMARY:RRNDOC Scent Work Trial\, April 2025
DESCRIPTION:
URL:https://rrndoc.org/event/rrndoc-scent-work-trial-april-2025/
LOCATION:Glenn’s Body Repair\, 680 7th Avenue NorthEast\, West Fargo\, ND\, 58078
CATEGORIES:Local Dog-Related Community Events
ORGANIZER;CN="RED RIVER NORTH DOG OBEDIENCE CLUB":MAILTO:rrndoc@gmail.com
END:VEVENT
BEGIN:VEVENT
DTSTART;TZID=UTC:20250221T070000
DTEND;TZID=UTC:20250223T170000
DTSTAMP:20260419T193906
CREATED:20250104T011735Z
LAST-MODIFIED:20250215T160209Z
UID:4483-1740121200-1740330000@rrndoc.org
SUMMARY:RRNDOC  AKC Agility Trial\, February 2025
DESCRIPTION:Agility Trial Premium RRNDOC 2025-02 \n 
URL:https://rrndoc.org/event/rrndoc-february-2025-agility-trial/
LOCATION:Red River Valley Fairgrounds\, Expo Building\, 1805 West Main Ave\, West Fargo\, ND\, 58078
CATEGORIES:Local Dog-Related Community Events
ORGANIZER;CN="RED RIVER NORTH DOG OBEDIENCE CLUB":MAILTO:rrndoc@gmail.com
END:VEVENT
END:VCALENDAR