BEGIN:VCALENDAR
VERSION:2.0
PRODID:-//Red River North       Dog Obedience Club - ECPv6.3.5//NONSGML v1.0//EN
CALSCALE:GREGORIAN
METHOD:PUBLISH
X-WR-CALNAME:Red River North       Dog Obedience Club
X-ORIGINAL-URL:https://rrndoc.org
X-WR-CALDESC:Events for Red River North       Dog Obedience Club
REFRESH-INTERVAL;VALUE=DURATION:PT1H
X-Robots-Tag:noindex
X-PUBLISHED-TTL:PT1H
BEGIN:VTIMEZONE
TZID:UTC
BEGIN:STANDARD
TZOFFSETFROM:+0000
TZOFFSETTO:+0000
TZNAME:UTC
DTSTART:20240101T000000
END:STANDARD
END:VTIMEZONE
BEGIN:VEVENT
DTSTART;VALUE=DATE:20240621
DTEND;VALUE=DATE:20240624
DTSTAMP:20260421T231552
CREATED:20240322T160432Z
LAST-MODIFIED:20240513T130706Z
UID:4399-1718928000-1719187199@rrndoc.org
SUMMARY:RRNDOC Obedience - Rally Trial  June 21 - 23
DESCRIPTION:June 2024 RRNDOC RallyOb Premium_
URL:https://rrndoc.org/event/rrndoc-obedience-rally-trial-june-21-23-2024/
LOCATION:ND
ORGANIZER;CN="RED RIVER NORTH DOG OBEDIENCE CLUB":MAILTO:rrndoc@gmail.com
END:VEVENT
END:VCALENDAR