BEGIN:VCALENDAR
VERSION:2.0
PRODID:-//Red River North       Dog Obedience Club - ECPv6.3.5//NONSGML v1.0//EN
CALSCALE:GREGORIAN
METHOD:PUBLISH
X-WR-CALNAME:Red River North       Dog Obedience Club
X-ORIGINAL-URL:https://rrndoc.org
X-WR-CALDESC:Events for Red River North       Dog Obedience Club
REFRESH-INTERVAL;VALUE=DURATION:PT1H
X-Robots-Tag:noindex
X-PUBLISHED-TTL:PT1H
BEGIN:VTIMEZONE
TZID:UTC
BEGIN:STANDARD
TZOFFSETFROM:+0000
TZOFFSETTO:+0000
TZNAME:UTC
DTSTART:20260101T000000
END:STANDARD
END:VTIMEZONE
BEGIN:VEVENT
DTSTART;TZID=UTC:20260101T080000
DTEND;TZID=UTC:20260101T170000
DTSTAMP:20260421T204950
CREATED:20260101T031214Z
LAST-MODIFIED:20260101T031214Z
UID:4822-1767254400-1767286800@rrndoc.org
SUMMARY:January 2026 Agility Premium
DESCRIPTION:Agility Premium January 2026
URL:https://rrndoc.org/event/january-2026-agility-premium/
LOCATION:ND
END:VEVENT
END:VCALENDAR